BEGIN:VCALENDAR
VERSION:2.0
PRODID:-//The Anchor - ECPv6.15.20//NONSGML v1.0//EN
CALSCALE:GREGORIAN
METHOD:PUBLISH
X-WR-CALNAME:The Anchor
X-ORIGINAL-URL:https://the-anchor.org
X-WR-CALDESC:Events for The Anchor
REFRESH-INTERVAL;VALUE=DURATION:PT1H
X-Robots-Tag:noindex
X-PUBLISHED-TTL:PT1H
BEGIN:VTIMEZONE
TZID:America/Chicago
BEGIN:DAYLIGHT
TZOFFSETFROM:-0600
TZOFFSETTO:-0500
TZNAME:CDT
DTSTART:20220313T080000
END:DAYLIGHT
BEGIN:STANDARD
TZOFFSETFROM:-0500
TZOFFSETTO:-0600
TZNAME:CST
DTSTART:20221106T070000
END:STANDARD
BEGIN:DAYLIGHT
TZOFFSETFROM:-0600
TZOFFSETTO:-0500
TZNAME:CDT
DTSTART:20230312T080000
END:DAYLIGHT
BEGIN:STANDARD
TZOFFSETFROM:-0500
TZOFFSETTO:-0600
TZNAME:CST
DTSTART:20231105T070000
END:STANDARD
BEGIN:DAYLIGHT
TZOFFSETFROM:-0600
TZOFFSETTO:-0500
TZNAME:CDT
DTSTART:20240310T080000
END:DAYLIGHT
BEGIN:STANDARD
TZOFFSETFROM:-0500
TZOFFSETTO:-0600
TZNAME:CST
DTSTART:20241103T070000
END:STANDARD
END:VTIMEZONE
BEGIN:VEVENT
DTSTART;TZID=America/Chicago:20231128T180000
DTEND;TZID=America/Chicago:20231128T210000
DTSTAMP:20260422T182143
CREATED:20231126T204011Z
LAST-MODIFIED:20240130T184515Z
UID:1195-1701194400-1701205200@the-anchor.org
SUMMARY:AA
DESCRIPTION:NA – 6:00 PM
URL:https://the-anchor.org/event/aa-2/
END:VEVENT
BEGIN:VEVENT
DTSTART;TZID=America/Chicago:20231128T100000
DTEND;TZID=America/Chicago:20231128T230000
DTSTAMP:20260422T182143
CREATED:20231126T204010Z
LAST-MODIFIED:20240130T184515Z
UID:1193-1701165600-1701212400@the-anchor.org
SUMMARY:Knitting
DESCRIPTION:Tuesdays – Knitting 10:00 AM
URL:https://the-anchor.org/event/knitting/
END:VEVENT
BEGIN:VEVENT
DTSTART;TZID=America/Chicago:20231127T190000
DTEND;TZID=America/Chicago:20231127T210000
DTSTAMP:20260422T182143
CREATED:20231126T204010Z
LAST-MODIFIED:20240130T184515Z
UID:1192-1701111600-1701118800@the-anchor.org
SUMMARY:AA
DESCRIPTION:Mondays – AA 7:00 PM
URL:https://the-anchor.org/event/aa/
END:VEVENT
END:VCALENDAR