BEGIN:VCALENDAR
VERSION:2.0
PRODID:-//The Anchor - ECPv6.15.20//NONSGML v1.0//EN
CALSCALE:GREGORIAN
METHOD:PUBLISH
X-ORIGINAL-URL:https://the-anchor.org
X-WR-CALDESC:Events for The Anchor
REFRESH-INTERVAL;VALUE=DURATION:PT1H
X-Robots-Tag:noindex
X-PUBLISHED-TTL:PT1H
BEGIN:VTIMEZONE
TZID:America/Chicago
BEGIN:DAYLIGHT
TZOFFSETFROM:-0600
TZOFFSETTO:-0500
TZNAME:CDT
DTSTART:20230312T080000
END:DAYLIGHT
BEGIN:STANDARD
TZOFFSETFROM:-0500
TZOFFSETTO:-0600
TZNAME:CST
DTSTART:20231105T070000
END:STANDARD
BEGIN:DAYLIGHT
TZOFFSETFROM:-0600
TZOFFSETTO:-0500
TZNAME:CDT
DTSTART:20240310T080000
END:DAYLIGHT
BEGIN:STANDARD
TZOFFSETFROM:-0500
TZOFFSETTO:-0600
TZNAME:CST
DTSTART:20241103T070000
END:STANDARD
BEGIN:DAYLIGHT
TZOFFSETFROM:-0600
TZOFFSETTO:-0500
TZNAME:CDT
DTSTART:20250309T080000
END:DAYLIGHT
BEGIN:STANDARD
TZOFFSETFROM:-0500
TZOFFSETTO:-0600
TZNAME:CST
DTSTART:20251102T070000
END:STANDARD
BEGIN:DAYLIGHT
TZOFFSETFROM:-0600
TZOFFSETTO:-0500
TZNAME:CDT
DTSTART:20260308T080000
END:DAYLIGHT
BEGIN:STANDARD
TZOFFSETFROM:-0500
TZOFFSETTO:-0600
TZNAME:CST
DTSTART:20261101T070000
END:STANDARD
END:VTIMEZONE
BEGIN:VEVENT
DTSTART;TZID=America/Chicago:20240107T120000
DTEND;TZID=America/Chicago:20240107T130000
DTSTAMP:20260422T165026
CREATED:20231126T204031Z
LAST-MODIFIED:20240130T184513Z
UID:1204-1704628800-1704632400@the-anchor.org
SUMMARY:Fellowship & coffee
DESCRIPTION:Sundays – Fellowship & coffee 11:45 AM
URL:https://the-anchor.org/event/fellowship-coffee/
END:VEVENT
BEGIN:VEVENT
DTSTART;TZID=America/Chicago:20240109T100000
DTEND;TZID=America/Chicago:20240109T120000
DTSTAMP:20260422T165026
CREATED:20240105T174751Z
LAST-MODIFIED:20240130T184513Z
UID:1967-1704794400-1704801600@the-anchor.org
SUMMARY:Knitting Group
DESCRIPTION:
URL:https://the-anchor.org/event/knitting-group/
END:VEVENT
BEGIN:VEVENT
DTSTART;TZID=America/Chicago:20240207T173000
DTEND;TZID=America/Chicago:20240207T183000
DTSTAMP:20260422T165026
CREATED:20240201T220212Z
LAST-MODIFIED:20240201T220212Z
UID:2829-1707327000-1707330600@the-anchor.org
SUMMARY:Girl Scouts
DESCRIPTION:We’re happy to host our local Girl Scouts troop!
URL:https://the-anchor.org/event/girl-scouts/
END:VEVENT
BEGIN:VEVENT
DTSTART;TZID=America/Chicago:20240104T190000
DTEND;TZID=America/Chicago:20240104T200000
DTSTAMP:20260422T165026
CREATED:20231126T204016Z
LAST-MODIFIED:20240130T184514Z
UID:1198-1704394800-1704398400@the-anchor.org
SUMMARY:Praying with Flair via ZOOM
DESCRIPTION:First Thursday of each month – Praying with Flair via ZOOM 7:00 PM\nEmail pk.kraus10@gmail.com to join!
URL:https://the-anchor.org/event/praying-with-flair-via-zoom/
END:VEVENT
BEGIN:VEVENT
DTSTART;TZID=America/Chicago:20240107T103000
DTEND;TZID=America/Chicago:20240107T120000
DTSTAMP:20260422T165026
CREATED:20240105T175637Z
LAST-MODIFIED:20240130T184513Z
UID:1971-1704623400-1704628800@the-anchor.org
SUMMARY:Sunday Worship
DESCRIPTION:
URL:https://the-anchor.org/event/sunday-worship/
END:VEVENT
BEGIN:VEVENT
DTSTART;TZID=America/Chicago:20241208T103000
DTEND;TZID=America/Chicago:20241208T120000
DTSTAMP:20260422T165026
CREATED:20240201T215426Z
LAST-MODIFIED:20240201T215426Z
UID:2824-1733653800-1733659200@the-anchor.org
SUMMARY:Ugly Sweater Day
DESCRIPTION:There’s beauty even in the ugly! Come kickoff Christmas with us\, wearing your ugly Christmas sweaters for Worship Service!
URL:https://the-anchor.org/event/ugly-sweater-day/
END:VEVENT
BEGIN:VEVENT
DTSTART;TZID=America/Chicago:20240107T120000
DTEND;TZID=America/Chicago:20240107T130000
DTSTAMP:20260422T165026
CREATED:20231126T204031Z
LAST-MODIFIED:20240130T184513Z
UID:1204-1704628800-1704632400@the-anchor.org
SUMMARY:Fellowship & coffee
DESCRIPTION:Sundays – Fellowship & coffee 11:45 AM
URL:https://the-anchor.org/event/fellowship-coffee/
END:VEVENT
BEGIN:VEVENT
DTSTART;TZID=America/Chicago:20240109T100000
DTEND;TZID=America/Chicago:20240109T120000
DTSTAMP:20260422T165026
CREATED:20240105T174751Z
LAST-MODIFIED:20240130T184513Z
UID:1967-1704794400-1704801600@the-anchor.org
SUMMARY:Knitting Group
DESCRIPTION:
URL:https://the-anchor.org/event/knitting-group/
END:VEVENT
BEGIN:VEVENT
DTSTART;TZID=America/Chicago:20240313T173000
DTEND;TZID=America/Chicago:20240313T183000
DTSTAMP:20260422T165026
CREATED:20240214T205359Z
LAST-MODIFIED:20240214T205359Z
UID:2867-1710351000-1710354600@the-anchor.org
SUMMARY:Girl Scouts
DESCRIPTION:We’re happy to host our local Girl Scouts troop!
URL:https://the-anchor.org/event/girl-scouts-3/
END:VEVENT
BEGIN:VEVENT
DTSTART;TZID=America/Chicago:20240314T153000
DTEND;TZID=America/Chicago:20240314T163000
DTSTAMP:20260422T165026
CREATED:20240214T210316Z
LAST-MODIFIED:20240214T210316Z
UID:2876-1710430200-1710433800@the-anchor.org
SUMMARY:Bible Study
DESCRIPTION:We are currently exploring 10 incredible women of the Bible\, and would love to have you join us!
URL:https://the-anchor.org/event/bible-study-3/
END:VEVENT
BEGIN:VEVENT
DTSTART;TZID=America/Chicago:20240107T103000
DTEND;TZID=America/Chicago:20240107T120000
DTSTAMP:20260422T165026
CREATED:20240105T175637Z
LAST-MODIFIED:20240130T184513Z
UID:1971-1704623400-1704628800@the-anchor.org
SUMMARY:Sunday Worship
DESCRIPTION:
URL:https://the-anchor.org/event/sunday-worship/
END:VEVENT
BEGIN:VEVENT
DTSTART;TZID=America/Chicago:20240107T120000
DTEND;TZID=America/Chicago:20240107T130000
DTSTAMP:20260422T165026
CREATED:20231126T204031Z
LAST-MODIFIED:20240130T184513Z
UID:1204-1704628800-1704632400@the-anchor.org
SUMMARY:Fellowship & coffee
DESCRIPTION:Sundays – Fellowship & coffee 11:45 AM
URL:https://the-anchor.org/event/fellowship-coffee/
END:VEVENT
BEGIN:VEVENT
DTSTART;TZID=America/Chicago:20240109T100000
DTEND;TZID=America/Chicago:20240109T120000
DTSTAMP:20260422T165026
CREATED:20240105T174751Z
LAST-MODIFIED:20240130T184513Z
UID:1967-1704794400-1704801600@the-anchor.org
SUMMARY:Knitting Group
DESCRIPTION:
URL:https://the-anchor.org/event/knitting-group/
END:VEVENT
BEGIN:VEVENT
DTSTART;TZID=America/Chicago:20240215T153000
DTEND;TZID=America/Chicago:20240215T163000
DTSTAMP:20260422T165026
CREATED:20240214T210119Z
LAST-MODIFIED:20240214T210119Z
UID:2832-1708011000-1708014600@the-anchor.org
SUMMARY:Bible Study
DESCRIPTION:We are currently exploring 10 incredible women of the Bible\, and would love to have you join us!
URL:https://the-anchor.org/event/bible-study/
END:VEVENT
BEGIN:VEVENT
DTSTART;TZID=America/Chicago:20240107T103000
DTEND;TZID=America/Chicago:20240107T120000
DTSTAMP:20260422T165026
CREATED:20240105T175637Z
LAST-MODIFIED:20240130T184513Z
UID:1971-1704623400-1704628800@the-anchor.org
SUMMARY:Sunday Worship
DESCRIPTION:
URL:https://the-anchor.org/event/sunday-worship/
END:VEVENT
BEGIN:VEVENT
DTSTART;TZID=America/Chicago:20240107T120000
DTEND;TZID=America/Chicago:20240107T130000
DTSTAMP:20260422T165026
CREATED:20231126T204031Z
LAST-MODIFIED:20240130T184513Z
UID:1204-1704628800-1704632400@the-anchor.org
SUMMARY:Fellowship & coffee
DESCRIPTION:Sundays – Fellowship & coffee 11:45 AM
URL:https://the-anchor.org/event/fellowship-coffee/
END:VEVENT
BEGIN:VEVENT
DTSTART;TZID=America/Chicago:20240109T100000
DTEND;TZID=America/Chicago:20240109T120000
DTSTAMP:20260422T165026
CREATED:20240105T174751Z
LAST-MODIFIED:20240130T184513Z
UID:1967-1704794400-1704801600@the-anchor.org
SUMMARY:Knitting Group
DESCRIPTION:
URL:https://the-anchor.org/event/knitting-group/
END:VEVENT
BEGIN:VEVENT
DTSTART;TZID=America/Chicago:20241224T180000
DTEND;TZID=America/Chicago:20241224T200000
DTSTAMP:20260422T165026
CREATED:20241222T212731Z
LAST-MODIFIED:20241222T214319Z
UID:6002-1735063200-1735070400@the-anchor.org
SUMMARY:Have You Heard the Word?
DESCRIPTION:The Christmas Eve service for Anchor Church at 6pm has been cancelled due to illness amongst some of the cast/production team. We plan to present it next year instead and pray all are healthy during that season. We wish everyone a Merry Christmas\, celebrating the birthday of our Savior Jesus Christ. Thank you for your understanding!
URL:https://the-anchor.org/event/6002/
END:VEVENT
BEGIN:VEVENT
DTSTART;TZID=America/Chicago:20240228T080000
DTEND;TZID=America/Chicago:20240228T170000
DTSTAMP:20260422T165026
CREATED:20240201T220502Z
LAST-MODIFIED:20240214T205241Z
UID:2833-1709107200-1709139600@the-anchor.org
SUMMARY:Girl Scouts
DESCRIPTION:We’re happy to host our local Girl Scouts troop!
URL:https://the-anchor.org/event/girl-scouts-2/
END:VEVENT
BEGIN:VEVENT
DTSTART;TZID=America/Chicago:20240131T130000
DTEND;TZID=America/Chicago:20240131T150000
DTSTAMP:20260422T165026
CREATED:20231126T204011Z
LAST-MODIFIED:20240130T184513Z
UID:1196-1706706000-1706713200@the-anchor.org
SUMMARY:Movie Matinee
DESCRIPTION:Last Wednesday of the month (except for Nov and Dec) – Movie Matinee 1:00 PM
URL:https://the-anchor.org/event/movie-matinee/
END:VEVENT
BEGIN:VEVENT
DTSTART;TZID=America/Chicago:20240222T153000
DTEND;TZID=America/Chicago:20240222T163000
DTSTAMP:20260422T165026
CREATED:20240214T210205Z
LAST-MODIFIED:20240214T210205Z
UID:2874-1708615800-1708619400@the-anchor.org
SUMMARY:Bible Study
DESCRIPTION:We are currently exploring 10 incredible women of the Bible\, and would love to have you join us!
URL:https://the-anchor.org/event/bible-study-2/
END:VEVENT
BEGIN:VEVENT
DTSTART;TZID=America/Chicago:20240107T103000
DTEND;TZID=America/Chicago:20240107T120000
DTSTAMP:20260422T165026
CREATED:20240105T175637Z
LAST-MODIFIED:20240130T184513Z
UID:1971-1704623400-1704628800@the-anchor.org
SUMMARY:Sunday Worship
DESCRIPTION:
URL:https://the-anchor.org/event/sunday-worship/
END:VEVENT
BEGIN:VEVENT
DTSTART;TZID=America/Chicago:20240107T120000
DTEND;TZID=America/Chicago:20240107T130000
DTSTAMP:20260422T165026
CREATED:20231126T204031Z
LAST-MODIFIED:20240130T184513Z
UID:1204-1704628800-1704632400@the-anchor.org
SUMMARY:Fellowship & coffee
DESCRIPTION:Sundays – Fellowship & coffee 11:45 AM
URL:https://the-anchor.org/event/fellowship-coffee/
END:VEVENT
BEGIN:VEVENT
DTSTART;TZID=America/Chicago:20240109T100000
DTEND;TZID=America/Chicago:20240109T120000
DTSTAMP:20260422T165026
CREATED:20240105T174751Z
LAST-MODIFIED:20240130T184513Z
UID:1967-1704794400-1704801600@the-anchor.org
SUMMARY:Knitting Group
DESCRIPTION:
URL:https://the-anchor.org/event/knitting-group/
END:VEVENT
BEGIN:VEVENT
DTSTART;TZID=America/Chicago:20240207T173000
DTEND;TZID=America/Chicago:20240207T183000
DTSTAMP:20260422T165026
CREATED:20240201T220212Z
LAST-MODIFIED:20240201T220212Z
UID:2829-1707327000-1707330600@the-anchor.org
SUMMARY:Girl Scouts
DESCRIPTION:We’re happy to host our local Girl Scouts troop!
URL:https://the-anchor.org/event/girl-scouts/
END:VEVENT
BEGIN:VEVENT
DTSTART;TZID=America/Chicago:20240104T190000
DTEND;TZID=America/Chicago:20240104T200000
DTSTAMP:20260422T165026
CREATED:20231126T204016Z
LAST-MODIFIED:20240130T184514Z
UID:1198-1704394800-1704398400@the-anchor.org
SUMMARY:Praying with Flair via ZOOM
DESCRIPTION:First Thursday of each month – Praying with Flair via ZOOM 7:00 PM\nEmail pk.kraus10@gmail.com to join!
URL:https://the-anchor.org/event/praying-with-flair-via-zoom/
END:VEVENT
BEGIN:VEVENT
DTSTART;TZID=America/Chicago:20250104T100000
DTEND;TZID=America/Chicago:20250104T140000
DTSTAMP:20260422T165026
CREATED:20240201T222831Z
LAST-MODIFIED:20240201T222831Z
UID:2840-1735984800-1735999200@the-anchor.org
SUMMARY:New Year Renewal
DESCRIPTION:Help us bring in this new year! We’ll be taking down the Greens of Advent and clearing out and cleaning up. We’ll also be providing food for all who come help!
URL:https://the-anchor.org/event/new-year-renewal/
END:VEVENT
BEGIN:VEVENT
DTSTART;TZID=America/Chicago:20240107T103000
DTEND;TZID=America/Chicago:20240107T120000
DTSTAMP:20260422T165026
CREATED:20240105T175637Z
LAST-MODIFIED:20240130T184513Z
UID:1971-1704623400-1704628800@the-anchor.org
SUMMARY:Sunday Worship
DESCRIPTION:
URL:https://the-anchor.org/event/sunday-worship/
END:VEVENT
BEGIN:VEVENT
DTSTART;TZID=America/Chicago:20240107T120000
DTEND;TZID=America/Chicago:20240107T130000
DTSTAMP:20260422T165026
CREATED:20231126T204031Z
LAST-MODIFIED:20240130T184513Z
UID:1204-1704628800-1704632400@the-anchor.org
SUMMARY:Fellowship & coffee
DESCRIPTION:Sundays – Fellowship & coffee 11:45 AM
URL:https://the-anchor.org/event/fellowship-coffee/
END:VEVENT
BEGIN:VEVENT
DTSTART;TZID=America/Chicago:20240109T100000
DTEND;TZID=America/Chicago:20240109T120000
DTSTAMP:20260422T165026
CREATED:20240105T174751Z
LAST-MODIFIED:20240130T184513Z
UID:1967-1704794400-1704801600@the-anchor.org
SUMMARY:Knitting Group
DESCRIPTION:
URL:https://the-anchor.org/event/knitting-group/
END:VEVENT
END:VCALENDAR